BEGIN:VCALENDAR
PRODID:-//Pixl8//Eventfolio//EN
VERSION:2.0
X-WR-TIMEZONE:Europe/London
CALSCALE:GREGORIAN
METHOD:PUBLISH
CLASS:PUBLIC
BEGIN:VTIMEZONE
TZID:Europe/London
LAST-MODIFIED:20260306T231828Z
TZURL:https://www.tzurl.org/zoneinfo-outlook/Europe/London
X-LIC-LOCATION:Europe/London
BEGIN:DAYLIGHT
TZNAME:BST
TZOFFSETFROM:+0000
TZOFFSETTO:+0100
DTSTART:19700329T010000
RRULE:FREQ=YEARLY;BYMONTH=3;BYDAY=-1SU
END:DAYLIGHT
BEGIN:STANDARD
TZNAME:GMT
TZOFFSETFROM:+0100
TZOFFSETTO:+0000
DTSTART:19701025T020000
RRULE:FREQ=YEARLY;BYMONTH=10;BYDAY=-1SU
END:STANDARD
END:VTIMEZONE
BEGIN:VEVENT
DTSTART;TZID=Europe/London:20250327T183000
DTEND;TZID=Europe/London:20250327T233000
DTSTAMP:20260421T182019Z
UID:{F40839D3-C539-476F-82484D865DA93F07}
LOCATION:Plaisterers' Hall\, Plaisterers' Hall\, One London Wall\, 1 London Wall\, Barbican\, London EC2Y 5JU
SUMMARY:Annual Dinner 2025
DESCRIPTION:The IMarEST's flagship social function, taking place in London this March.\n
 \n
 Event details: https://www.imarest.org/events/event-calendar/annual-dinner-2025.html
PRIORITY:1
END:VEVENT
END:VCALENDAR