BEGIN:VCALENDAR
PRODID:-//Pixl8//Eventfolio//EN
VERSION:2.0
X-WR-TIMEZONE:Europe/London
CALSCALE:GREGORIAN
METHOD:PUBLISH
CLASS:PUBLIC
BEGIN:VTIMEZONE
TZID:Europe/London
LAST-MODIFIED:20260306T231828Z
TZURL:https://www.tzurl.org/zoneinfo-outlook/Europe/London
X-LIC-LOCATION:Europe/London
BEGIN:DAYLIGHT
TZNAME:BST
TZOFFSETFROM:+0000
TZOFFSETTO:+0100
DTSTART:19700329T010000
RRULE:FREQ=YEARLY;BYMONTH=3;BYDAY=-1SU
END:DAYLIGHT
BEGIN:STANDARD
TZNAME:GMT
TZOFFSETFROM:+0100
TZOFFSETTO:+0000
DTSTART:19701025T020000
RRULE:FREQ=YEARLY;BYMONTH=10;BYDAY=-1SU
END:STANDARD
END:VTIMEZONE
BEGIN:VEVENT
DTSTART;TZID=Europe/London:20231128T080000
DTEND;TZID=Europe/London:20231128T230000
DTSTAMP:20260421T012502Z
UID:{5E88A202-D256-4DEA-BF98D1EEB1AC8EDE.45258}
LOCATION:SS Great Britain\, SS Great Britain\, Great Western Dockyard\, Gas Ferry Road\, Bristol\, BS1 6TY
SUMMARY:Engine as a Weapon X
DESCRIPTION:Exploiting Technologies for Warfighting Advantage\n
 \n
 Event details: https://www.imarest.org/events/event-calendar/engine-as-a-weapon-x.html
PRIORITY:1
END:VEVENT
BEGIN:VEVENT
DTSTART;TZID=Europe/London:20231129T083000
DTEND;TZID=Europe/London:20231129T180000
DTSTAMP:20260421T012502Z
UID:{5E88A202-D256-4DEA-BF98D1EEB1AC8EDE.45259}
LOCATION:SS Great Britain\, SS Great Britain\, Great Western Dockyard\, Gas Ferry Road\, Bristol\, BS1 6TY
SUMMARY:Engine as a Weapon X
DESCRIPTION:Exploiting Technologies for Warfighting Advantage\n
 \n
 Event details: https://www.imarest.org/events/event-calendar/engine-as-a-weapon-x.html
PRIORITY:1
END:VEVENT
END:VCALENDAR