BEGIN:VCALENDAR
PRODID:-//Pixl8//Eventfolio//EN
VERSION:2.0
X-WR-TIMEZONE:Europe/London
CALSCALE:GREGORIAN
METHOD:PUBLISH
CLASS:PUBLIC
BEGIN:VTIMEZONE
TZID:Europe/London
LAST-MODIFIED:20260306T231828Z
TZURL:https://www.tzurl.org/zoneinfo-outlook/Europe/London
X-LIC-LOCATION:Europe/London
BEGIN:DAYLIGHT
TZNAME:BST
TZOFFSETFROM:+0000
TZOFFSETTO:+0100
DTSTART:19700329T010000
RRULE:FREQ=YEARLY;BYMONTH=3;BYDAY=-1SU
END:DAYLIGHT
BEGIN:STANDARD
TZNAME:GMT
TZOFFSETFROM:+0100
TZOFFSETTO:+0000
DTSTART:19701025T020000
RRULE:FREQ=YEARLY;BYMONTH=10;BYDAY=-1SU
END:STANDARD
END:VTIMEZONE
BEGIN:VEVENT
DTSTART;TZID=Europe/London:20231207T191500
DTEND;TZID=Europe/London:20231207T203000
DTSTAMP:20260420T054629Z
UID:{FFFAF825-12D6-4902-88B3D752ED0D4133}
LOCATION:City College Oceansgate
SUMMARY:Fishers and Safety
DESCRIPTION:A hybrid event by the IMarEST's Devon & Cornwall Joint Branch with The Nautical Institute SW.\n
 \n
 Event details: https://www.imarest.org/events/event-calendar/fishers-and-safety.html
PRIORITY:1
END:VEVENT
END:VCALENDAR