BEGIN:VCALENDAR
PRODID:-//Pixl8//Eventfolio//EN
VERSION:2.0
X-WR-TIMEZONE:Europe/London
CALSCALE:GREGORIAN
METHOD:PUBLISH
CLASS:PUBLIC
BEGIN:VTIMEZONE
TZID:Europe/London
LAST-MODIFIED:20260306T231828Z
TZURL:https://www.tzurl.org/zoneinfo-outlook/Europe/London
X-LIC-LOCATION:Europe/London
BEGIN:DAYLIGHT
TZNAME:BST
TZOFFSETFROM:+0000
TZOFFSETTO:+0100
DTSTART:19700329T010000
RRULE:FREQ=YEARLY;BYMONTH=3;BYDAY=-1SU
END:DAYLIGHT
BEGIN:STANDARD
TZNAME:GMT
TZOFFSETFROM:+0100
TZOFFSETTO:+0000
DTSTART:19701025T020000
RRULE:FREQ=YEARLY;BYMONTH=10;BYDAY=-1SU
END:STANDARD
END:VTIMEZONE
BEGIN:VEVENT
DTSTART;TZID=Europe/London:20240424T173000
DTEND;TZID=Europe/London:20240424T200000
DTSTAMP:20260421T105750Z
UID:{A0F197A6-05D3-47B8-B97051F9ACE3E65B}
LOCATION:Leonardo Tower Bridge Hotel\, Leonardo Tower Bridge Hotel\, 45 Prescot St\, London\, E1 8GP
SUMMARY:President's Lecture: Reefs vs Manmade Structures
DESCRIPTION:The IMarEST's 121st President, Yves De Leeneer, gives his inaugural lecture.\n
 \n
 Event details: https://www.imarest.org/events/event-calendar/presidents-lecture-reefs-vs-manmade-structures.html
PRIORITY:1
END:VEVENT
END:VCALENDAR