BEGIN:VCALENDAR
PRODID:-//Pixl8//Eventfolio//EN
VERSION:2.0
X-WR-TIMEZONE:Europe/London
CALSCALE:GREGORIAN
METHOD:PUBLISH
CLASS:PUBLIC
BEGIN:VTIMEZONE
TZID:Europe/London
LAST-MODIFIED:20260306T231828Z
TZURL:https://www.tzurl.org/zoneinfo-outlook/Europe/London
X-LIC-LOCATION:Europe/London
BEGIN:DAYLIGHT
TZNAME:BST
TZOFFSETFROM:+0000
TZOFFSETTO:+0100
DTSTART:19700329T010000
RRULE:FREQ=YEARLY;BYMONTH=3;BYDAY=-1SU
END:DAYLIGHT
BEGIN:STANDARD
TZNAME:GMT
TZOFFSETFROM:+0100
TZOFFSETTO:+0000
DTSTART:19701025T020000
RRULE:FREQ=YEARLY;BYMONTH=10;BYDAY=-1SU
END:STANDARD
END:VTIMEZONE
BEGIN:VEVENT
DTSTART;TZID=Europe/London:20250724T170000
DTEND;TZID=Europe/London:20250724T183000
DTSTAMP:20260419T200836Z
UID:{C85F6F74-0C5B-4982-90C50B356F93DA8E}
LOCATION:Online
SUMMARY:Real Talk: Early Careers in Marine Mammal Science
DESCRIPTION:A webinar by the Marine Mammals SIG\n
 \n
 Event details: https://www.imarest.org/events/event-calendar/real-talk-early-careers-in-marine-mammal-science.html
PRIORITY:1
END:VEVENT
END:VCALENDAR