BEGIN:VCALENDAR
PRODID:-//Pixl8//Eventfolio//EN
VERSION:2.0
X-WR-TIMEZONE:Europe/London
CALSCALE:GREGORIAN
METHOD:PUBLISH
CLASS:PUBLIC
BEGIN:VTIMEZONE
TZID:Europe/London
LAST-MODIFIED:20260306T231828Z
TZURL:https://www.tzurl.org/zoneinfo-outlook/Europe/London
X-LIC-LOCATION:Europe/London
BEGIN:DAYLIGHT
TZNAME:BST
TZOFFSETFROM:+0000
TZOFFSETTO:+0100
DTSTART:19700329T010000
RRULE:FREQ=YEARLY;BYMONTH=3;BYDAY=-1SU
END:DAYLIGHT
BEGIN:STANDARD
TZNAME:GMT
TZOFFSETFROM:+0100
TZOFFSETTO:+0000
DTSTART:19701025T020000
RRULE:FREQ=YEARLY;BYMONTH=10;BYDAY=-1SU
END:STANDARD
END:VTIMEZONE
BEGIN:VEVENT
DTSTART;TZID=Europe/London:20231213T180000
DTEND;TZID=Europe/London:20231213T203000
DTSTAMP:20260424T203523Z
UID:{F3D81121-1FFA-4021-87E5816CC454ADD9.45273}
LOCATION:Trinity House\, Tower Hill\, London\, EC3N 4DH
SUMMARY:Stanley Gray Lecture
DESCRIPTION:Free to attend, our prestigious Stanley Gray Lecture returns for 2023.\n
 \n
 Event details: https://www.imarest.org/events/event-calendar/stanley-gray-lecture.html
PRIORITY:1
END:VEVENT
END:VCALENDAR