BEGIN:VCALENDAR
PRODID:-//Pixl8//Eventfolio//EN
VERSION:2.0
X-WR-TIMEZONE:America/New_York
CALSCALE:GREGORIAN
METHOD:PUBLISH
CLASS:PUBLIC
BEGIN:VTIMEZONE
TZID:America/New_York
LAST-MODIFIED:20260306T231828Z
TZURL:https://www.tzurl.org/zoneinfo-outlook/America/New_York
X-LIC-LOCATION:America/New_York
BEGIN:DAYLIGHT
TZNAME:EDT
TZOFFSETFROM:-0500
TZOFFSETTO:-0400
DTSTART:19700308T020000
RRULE:FREQ=YEARLY;BYMONTH=3;BYDAY=2SU
END:DAYLIGHT
BEGIN:STANDARD
TZNAME:EST
TZOFFSETFROM:-0400
TZOFFSETTO:-0500
DTSTART:19701101T020000
RRULE:FREQ=YEARLY;BYMONTH=11;BYDAY=1SU
END:STANDARD
END:VTIMEZONE
BEGIN:VEVENT
DTSTART;TZID=America/New_York:20250115T170000
DTEND;TZID=America/New_York:20250115T200000
DTSTAMP:20260420T075728Z
UID:{57C5C203-5206-4A5F-8B36C45D51DC3E6E}
LOCATION:White Horse Tavern – Financial District
SUMMARY:Winter Layups – Emerging Risks and Technical Considerations
DESCRIPTION:An event by IMarEST's Eastern USA branch held jointly with Society of Naval Architects and Marine Engineers (SNAME), the Society of Marine Port Engineers (SMPE), and the American Society of Naval Engineers (ASNE).\n
 \n
 Event details: https://www.imarest.org/events/event-calendar/winter-layups-emerging-risks-and-technical-considerations.html
PRIORITY:1
END:VEVENT
END:VCALENDAR